BEGIN:VCALENDAR
VERSION:2.0
PRODID:-//Tukios.com/
BEGIN:VEVENT
UID:37e87594-1932-443e-899a-ac419a45a90f@www.salinasfh.com
DTSTAMP:20260424T055023Z
DTSTART:20260425T000000Z
DTEND:20260425T010000Z
SUMMARY:Rosary
DESCRIPTION:
URL:https://www.salinasfh.com/obituaries/olivia-rodriguez-2026
LOCATION: 304 E Edinburg Ave  Elsa TX 78543
GEO:26.2929989;-97.9894734
END:VEVENT
END:VCALENDAR