BEGIN:VCALENDAR
VERSION:2.0
PRODID:-//Tukios.com/
BEGIN:VEVENT
UID:3ad07336-ff8b-46c0-a9ec-c1e1e58f2fec@www.salinasfh.com
DTSTAMP:20260424T054705Z
DTSTART:20260424T220000Z
DTEND:20260425T020000Z
SUMMARY:Public Viewing
DESCRIPTION:
URL:https://www.salinasfh.com/obituaries/olivia-rodriguez-2026
LOCATION:Salinas Funeral Home- Chapel of the Heavens 304 E Edinburg Ave  
	Elsa TX 78543
GEO:26.2929989;-97.9894734
END:VEVENT
END:VCALENDAR