BEGIN:VCALENDAR
VERSION:2.0
PRODID:-//Tukios.com/
BEGIN:VEVENT
UID:bfa1a166-0d14-43b0-85af-f5e42542dd89@www.salinasfh.com
DTSTAMP:20260423T004638Z
DTSTART:20260427T210000Z
DTEND:20260428T020000Z
SUMMARY:Public Viewing
DESCRIPTION:
URL:https://www.salinasfh.com/obituaries/mauro-gomez
LOCATION:Salinas Funeral Home of Weslaco - Chapel of Grace  2929 W. 
	Expressway 83  Weslaco TX 78599
GEO:26.1724512;-98.0184026
END:VEVENT
END:VCALENDAR