BEGIN:VCALENDAR
VERSION:2.0
PRODID:-//Tukios.com/
BEGIN:VEVENT
UID:738db6a9-6ba5-44ef-8f85-ab832929ad22@www.salinasfh.com
DTSTAMP:20260423T004311Z
DTSTART:20260428T000000Z
DTEND:20260428T010000Z
SUMMARY:Prayer Service
DESCRIPTION:
URL:https://www.salinasfh.com/obituaries/mauro-gomez
LOCATION:Salinas Funeral Home of Weslaco - Chapel of Grace  2929 W. 
	Expressway 83  Weslaco TX 78599
GEO:26.1724512;-98.0184026
END:VEVENT
END:VCALENDAR