BEGIN:VCALENDAR
VERSION:2.0
PRODID:-//Tukios.com/
BEGIN:VEVENT
UID:3128538a-e0a3-4928-b36e-7ff8874d4a78@www.salinasfh.com
DTSTAMP:20260421T002156Z
DTSTART:20260422T150000Z
DTEND:20260422T190000Z
SUMMARY:Public Viewing
DESCRIPTION:
URL:https://www.salinasfh.com/obituaries/luis-olivares
LOCATION:Salinas Funeral Home- Chapel of Faith  2929 W. Expressway 83  
	Weslaco TX 78599
GEO:26.1724512;-98.0184026
END:VEVENT
END:VCALENDAR