BEGIN:VCALENDAR
VERSION:2.0
PRODID:-//Tukios.com/
BEGIN:VEVENT
UID:07f54f90-4f5c-4285-8919-c0f8326d3039@www.salinasfh.com
DTSTAMP:20260422T005953Z
DTSTART:20260424T200000Z
DTEND:20260425T020000Z
SUMMARY:Public Viewing
DESCRIPTION:
URL:https://www.salinasfh.com/obituaries/karen-zamora
LOCATION:Salinas Funeral Home of Weslaco - Chapel of Grace  2929 W. 
	Expressway 83  Weslaco TX 78599
GEO:26.1724512;-98.0184026
END:VEVENT
END:VCALENDAR