BEGIN:VCALENDAR
VERSION:2.0
PRODID:-//Tukios.com/
BEGIN:VEVENT
UID:0ca62b7b-e92c-489d-9162-a7ea6be10ab7@www.salinasfh.com
DTSTAMP:20260423T002350Z
DTSTART:20260423T190000Z
DTEND:20260424T020000Z
SUMMARY:Public Viewing
DESCRIPTION:
URL:https://www.salinasfh.com/obituaries/jose-castano-pecina
LOCATION:Salinas Funeral Home of Weslaco - Chapel of Grace  2929 W. 
	Expressway 83  Weslaco TX 78599
GEO:26.1724512;-98.0184026
END:VEVENT
END:VCALENDAR