BEGIN:VCALENDAR
VERSION:2.0
PRODID:-//Tukios.com/
BEGIN:VEVENT
UID:c6417e91-b133-4e9a-8215-349043d330a7@www.salinasfh.com
DTSTAMP:20260423T002523Z
DTSTART:20260424T000000Z
DTEND:20260424T010000Z
SUMMARY:Rosary
DESCRIPTION:
URL:https://www.salinasfh.com/obituaries/jose-castano-pecina
LOCATION:Salinas Funeral Home of Weslaco - Chapel of Grace  2929 W. 
	Expressway 83  Weslaco TX 78599
GEO:26.1724512;-98.0184026
END:VEVENT
END:VCALENDAR